BEGIN:VCALENDAR
VERSION:2.0
PRODID:-//CODA - ECPv6.15.20//NONSGML v1.0//EN
CALSCALE:GREGORIAN
METHOD:PUBLISH
X-ORIGINAL-URL:https://codaweb.org
X-WR-CALDESC:Events for CODA
REFRESH-INTERVAL;VALUE=DURATION:PT1H
X-Robots-Tag:noindex
X-PUBLISHED-TTL:PT1H
BEGIN:VTIMEZONE
TZID:America/Kentucky/Louisville
BEGIN:DAYLIGHT
TZOFFSETFROM:-0500
TZOFFSETTO:-0400
TZNAME:EDT
DTSTART:20180311T070000
END:DAYLIGHT
BEGIN:STANDARD
TZOFFSETFROM:-0400
TZOFFSETTO:-0500
TZNAME:EST
DTSTART:20181104T060000
END:STANDARD
BEGIN:DAYLIGHT
TZOFFSETFROM:-0500
TZOFFSETTO:-0400
TZNAME:EDT
DTSTART:20190310T070000
END:DAYLIGHT
BEGIN:STANDARD
TZOFFSETFROM:-0400
TZOFFSETTO:-0500
TZNAME:EST
DTSTART:20191103T060000
END:STANDARD
BEGIN:DAYLIGHT
TZOFFSETFROM:-0500
TZOFFSETTO:-0400
TZNAME:EDT
DTSTART:20200308T070000
END:DAYLIGHT
BEGIN:STANDARD
TZOFFSETFROM:-0400
TZOFFSETTO:-0500
TZNAME:EST
DTSTART:20201101T060000
END:STANDARD
END:VTIMEZONE
BEGIN:VEVENT
DTSTART;TZID=America/Kentucky/Louisville:20190207T000000
DTEND;TZID=America/Kentucky/Louisville:20190209T235959
DTSTAMP:20260423T132536
CREATED:20201208T163157Z
LAST-MODIFIED:20211106T151936Z
UID:407-1549497600-1549756799@codaweb.org
SUMMARY:2019 National Conference
DESCRIPTION:Keynote Speaker: Peter Schickele \n\n\n\nActivities include Boston Symphony rehearsal and concert\, tour of MIT Media Lab’s “Opera of the Future\,” student conducting workshop with Bruce Hangen\, and special workshop and performance by the Handel and Haydn Society. \n\n\n\nConference Hotel: Boston Park Plaza. Click here for special $129/night CODA rate. \n\n\n\nBoston Symphony Orchestra Concert:Thursday\, February 7\, 2019 at 8:00 pm \n\n\n\nOnline registration has closed. You can still register in advance by contacting the CODA Executive Administrator or in-person at the conference. The registration fee is $160 for regular members or $70 for students.   \n\n\n\n\n\n\n\nCo-Hosts: Boston Conservatory at Berklee\, Massachusetts Institue of Technology
URL:https://codaweb.org/event/2019-national-conference/
LOCATION:Boston Conservatory at Berklee\, 8 Fenway\, Boston\, MA\, 02215\, United States
CATEGORIES:2019 National Conference
ATTACH;FMTTYPE=image/jpeg:https://codaweb.org/wp-content/uploads/2020/12/2019_National_Conference_Boston.jpg
ORGANIZER;CN="Lori Clifton":MAILTO:lori_clifton@baylor.edu
END:VEVENT
END:VCALENDAR